BEGIN:VCALENDAR
VERSION:2.0
PRODID:-//wp-events-plugin.com//6.6.4.4//EN
TZID:Europe/London
X-WR-TIMEZONE:Europe/London
BEGIN:VEVENT
UID:79@shinraikaratedo.co.uk
DTSTART;TZID=Europe/London:20240512T090000
DTEND;TZID=Europe/London:20240512T160000
DTSTAMP:20240317T232408Z
URL:https://www.shinraikaratedo.co.uk/events/2024-shinrai-tournament-spect
 ators/
SUMMARY:2024 Shinrai Tournament – Spectators
DESCRIPTION:This is a ticketed event\, please bring your tickets with you f
 or check in
CATEGORIES:Course
LOCATION:High Wycombe Judo Centre\, Barry Close\, High Wycombe\, HP12 4UE\,
  United Kingdom
GEO:51.616263;-0.787128
X-APPLE-STRUCTURED-LOCATION;VALUE=URI;X-ADDRESS=Barry Close\, High Wycombe\
 , HP12 4UE\, United Kingdom;X-APPLE-RADIUS=100;X-TITLE=High Wycombe Judo C
 entre:geo:51.616263,-0.787128
END:VEVENT
BEGIN:VTIMEZONE
TZID:Europe/London
X-LIC-LOCATION:Europe/London
BEGIN:DAYLIGHT
DTSTART:20240331T020000
TZOFFSETFROM:+0000
TZOFFSETTO:+0100
TZNAME:BST
END:DAYLIGHT
END:VTIMEZONE
END:VCALENDAR