BEGIN:VCALENDAR
VERSION:2.0
PRODID:-//wp-events-plugin.com//6.6.4.4//EN
TZID:Europe/London
X-WR-TIMEZONE:Europe/London
BEGIN:VEVENT
UID:119@shinraikaratedo.co.uk
DTSTART;TZID=Europe/London:20260731T103000
DTEND;TZID=Europe/London:20260731T143000
DTSTAMP:20260102T173228Z
URL:https://www.shinraikaratedo.co.uk/events/2026-summer-course-grading-al
 l-grades/
SUMMARY:2026 Summer Course Grading - All Grades
DESCRIPTION:Gradings for Black Belts and Kyu Grades will take place on the 
 last day of the Shinrai Karate Summer Course.\n\nGradings for kyu grades a
 nd dan grades will take place in the morning session\, the Black Belt grad
 ings will continue into the afternoon session.\n\n\n\nGrade\nCost\n\n\nCur
 rent Grade - White Belts to Yellow Belts\nTBC\n\n\nCurrent Grade - Orange 
 Belts to Brown Belts\nTBC\n\n\nJunior\, Under 16 - Black Belt Grading\nTBC
 \n\n\nSenior\, 16 or Over - Black Belt Grading\nTBC\n\n\n
CATEGORIES:Grading
LOCATION:Jubilee High School\, School Lane\, Addlestone\, KT15 1TB\, United
  Kingdom
GEO:51.370438;-0.502254
X-APPLE-STRUCTURED-LOCATION;VALUE=URI;X-ADDRESS=School Lane\, Addlestone\, 
 KT15 1TB\, United Kingdom;X-APPLE-RADIUS=100;X-TITLE=Jubilee High School:g
 eo:51.370438,-0.502254
END:VEVENT
BEGIN:VTIMEZONE
TZID:Europe/London
X-LIC-LOCATION:Europe/London
BEGIN:DAYLIGHT
DTSTART:20260329T020000
TZOFFSETFROM:+0000
TZOFFSETTO:+0100
TZNAME:BST
END:DAYLIGHT
END:VTIMEZONE
END:VCALENDAR